BEGIN:VCALENDAR
VERSION:2.0
PRODID:-//ChamberMaster//Event Calendar 2.0//EN
METHOD:PUBLISH
X-PUBLISHED-TTL:P1H
REFRESH-INTERVAL:P1H
CALSCALE:GREGORIAN
BEGIN:VTIMEZONE
TZID:America/New_York
BEGIN:DAYLIGHT
RRULE:FREQ=YEARLY;BYMONTH=3;BYDAY=2SU
DTSTART:20070101T000000
TZOFFSETFROM:-0500
TZOFFSETTO:-0400
TZNAME:Eastern Daylight Time
END:DAYLIGHT
BEGIN:STANDARD
RRULE:FREQ=YEARLY;BYMONTH=11;BYDAY=1SU
DTSTART:20070101T000000
TZOFFSETFROM:-0400
TZOFFSETTO:-0500
TZNAME:Eastern Standard Time
END:STANDARD
END:VTIMEZONE
BEGIN:VEVENT
DTSTART;TZID=America/New_York:20260510T140000
DTEND;TZID=America/New_York:20260510T170000
X-MICROSOFT-CDO-ALLDAYEVENT:FALSE
SUMMARY:The Maine Music Society Chorale Presents: Reflections on Water
DESCRIPTION:The Maine Music Society Chorale\, directed by Dr. Richard Nickerson\, is thrilled to announce its upcoming May concert\, Reflections on Water\, to be held on Saturday\, May 9\, 2026\, at 7:00 p.m. and Sunday\, May 10\, 2026\, at 2:00 p.m. at the Franco Center in Lewiston. Our May concert flows through the currents of history\, tradition\, and popular culture all inspired by one powerful force: water. From the crashing waves of the open sea to the quiet lapping of a lakeshore\, water has long stirred the imagination of songwriters and sailors alike. Our program will span centuries and genres\, from rousing sea shanties that once echoed across tall ships\, to haunting maritime folk ballads\, and even to modern pop hits that explore water's symbolism\, beauty\, and mystery. According to Artistic Director\, Richard Nickerson\, "Water is the perfect storyteller. In this program\, you'll hear it in all its forms. Each piece approaches water differently\, yet together they remind us that\, like music\, it has no boundaries only motion\, depth\, and life." The 80+ volunteer singers from the Lewiston-Auburn area\, under the direction of Artistic Director Richard Nickerson and accompanied by collaborative pianist Randy Day\, are excited to perform in this final concert of the season with music inspired by the many aspects of water and its impact on nature and humanity. Ticket Information: Tickets are available for purchase online at www.mainemusicsociety.org or by calling the MMS office at 207-333-3386. Thank you to our sponsors: season underwriters Hardy\, Wolf & Downing and Sun Journal\, media sponsor\, Twin City Times and event supporters Auburn Savings Bank and Norway Savings Bank. About the Maine Music Society: The Maine Music Society (MMS) is a nonprofit organization dedicated to enriching the cultural life of the Lewiston-Auburn area through performances of choral music. MMS's volunteer singers\, musicians\, and staff share a passion for creating music that inspires\, uplifts\, and connects the community. For more information\, visit www.mainemusicsociety.org
X-ALT-DESC;FMTTYPE=text/html:<!DOCTYPE html><html><head><title></title></head><body aria-disabled="false" data-gr-ext-installed="" data-new-gr-c-s-check-loaded="14.1284.0" data-new-gr-c-s-loaded="14.1284.0" spellcheck="false"><p>The Maine Music Society Chorale\, directed by Dr. Richard Nickerson\, is thrilled to announce its upcoming May concert\, Reflections on Water\, to be held on Saturday\, May 9\, 2026\, at 7:00 p.m. and Sunday\, May 10\, 2026\, at 2:00 p.m. at the Franco Center in Lewiston.&nbsp\;</p><p>Our May concert flows through the currents of history\, tradition\, and popular culture&mdash\;all inspired by one powerful force: water. From the crashing waves of the open sea to the quiet lapping of a lakeshore\, water has long stirred the imagination of songwriters and sailors alike. Our program will span centuries and genres\, from rousing sea shanties that once echoed across tall ships\, to haunting maritime folk ballads\, and even to modern pop hits that explore water&rsquo\;s symbolism\, beauty\, and mystery. According to Artistic Director\, Richard Nickerson\, &ldquo\;Water is the perfect storyteller. In this program\, you&rsquo\;ll hear it in all its forms. Each piece approaches water differently\, yet together they remind us that\, like music\, it has no boundaries&mdash\;only motion\, depth\, and life.&rdquo\; The 80+ volunteer singers from the Lewiston-Auburn area\, under the direction of Artistic Director Richard Nickerson and accompanied by collaborative pianist Randy Day\, are excited to perform in this final concert of the season with music inspired by the many aspects of water and its impact on nature and humanity.&nbsp\;</p><p>Ticket Information: Tickets are available for purchase online at www.mainemusicsociety.org or by calling the MMS office at 207-333-3386.&nbsp\;</p><p>Thank you to our sponsors: season underwriters Hardy\, Wolf &amp\; Downing and Sun Journal\, media sponsor\, Twin City Times and event supporters Auburn Savings Bank and Norway Savings Bank. About the Maine Music Society: The Maine Music Society (MMS) is a nonprofit organization dedicated to enriching the cultural life of the Lewiston-Auburn area through performances of choral music. MMS&#39\;s volunteer singers\, musicians\, and staff share a passion for creating music that inspires\, uplifts\, and connects the community. For more information\, visit www.mainemusicsociety.org</p></body></html>
LOCATION:46 Cedar St. Lewiston ME 04240
UID:e.4124.1447849
SEQUENCE:3
DTSTAMP:20260423T035949Z
URL:https://business.lametrochamber.com/list/Details/the-maine-music-society-chorale-presents-reflections-on-water-1714797?sourceTypeId=Hub
END:VEVENT
END:VCALENDAR
