BEGIN:VCALENDAR
VERSION:2.0
PRODID:-//ChamberMaster//Event Calendar 2.0//EN
METHOD:PUBLISH
X-PUBLISHED-TTL:P1H
REFRESH-INTERVAL:P1H
CALSCALE:GREGORIAN
BEGIN:VTIMEZONE
TZID:America/New_York
BEGIN:DAYLIGHT
RRULE:FREQ=YEARLY;BYMONTH=3;BYDAY=2SU
DTSTART:20070101T000000
TZOFFSETFROM:-0500
TZOFFSETTO:-0400
TZNAME:Eastern Daylight Time
END:DAYLIGHT
BEGIN:STANDARD
RRULE:FREQ=YEARLY;BYMONTH=11;BYDAY=1SU
DTSTART:20070101T000000
TZOFFSETFROM:-0400
TZOFFSETTO:-0500
TZNAME:Eastern Standard Time
END:STANDARD
END:VTIMEZONE
BEGIN:VEVENT
DTSTART;TZID=America/New_York:20260425T090000
DTEND;TZID=America/New_York:20260425T120000
X-MICROSOFT-CDO-ALLDAYEVENT:FALSE
SUMMARY:COMMUNITY RECYCLE DAY 2026 – DRIVE-THRU EVENT
DESCRIPTION:Auburn\, ME – In celebration of Earth Day\, Community Credit Union invites the\ncommunity to its annual Community Recycle Day Drive-Thru Event on Saturday\,\nApril 25\, 2026.\nThis FREE event—open to all\, no membership required— brings together local\npartners to offer a convenient way to recycle\, donate\, and give back\, all in one stop.\nParticipating Community Partners:\n Shredding On Site – Secure document destruction\n North Coast Services – Electronics recycling (TVs\, computers\, monitors\,\nprinters)\n Kaydenz Kitchen – Clothing\, coats\, and shoes\n SeniorsPlus – Puzzles\, assistive devices\, shelf stable foods and essentials for\nhomebound individuals (cannot accept commodes)\n Kommunity Kritters – Pet food\, litter\, toys\, and supplies\n BDS Tire Recycling – Residential Tires (see event link for specific details)\n Maine Credit Unions’ Campaign for Ending Hunger – Bottle & can drive to\nsupport local food pantries!\n\nThis long-standing community tradition continues to grow each year—bringing\nresidents\, businesses\, and volunteers together to reduce waste\, protect the\nenvironment\, and support neighbors in need.\n�� Event Details & Updates:\nhttps://www.facebook.com/share/18A6RUu8rF/
X-ALT-DESC;FMTTYPE=text/html:Auburn\, ME – In celebration of Earth Day\, Community Credit Union invites the\ncommunity to its annual Community Recycle Day Drive-Thru Event on Saturday\,\nApril 25\, 2026.\nThis FREE event—open to all\, no membership required— brings together local\npartners to offer a convenient way to recycle\, donate\, and give back\, all in one stop.\nParticipating Community Partners:\n Shredding On Site – Secure document destruction\n North Coast Services – Electronics recycling (TVs\, computers\, monitors\,\nprinters)\n Kaydenz Kitchen – Clothing\, coats\, and shoes\n SeniorsPlus – Puzzles\, assistive devices\, shelf stable foods and essentials for\nhomebound individuals (cannot accept commodes)\n Kommunity Kritters – Pet food\, litter\, toys\, and supplies\n BDS Tire Recycling – Residential Tires (see event link for specific details)\n Maine Credit Unions’ Campaign for Ending Hunger – Bottle &amp\; can drive to\nsupport local food pantries!\n\nThis long-standing community tradition continues to grow each year—bringing\nresidents\, businesses\, and volunteers together to reduce waste\, protect the\nenvironment\, and support neighbors in need.\n�� Event Details &amp\; Updates:\nhttps://www.facebook.com/share/18A6RUu8rF/
LOCATION:40 Stanley St Auburn ME 04210
UID:e.4124.1447907
SEQUENCE:3
DTSTAMP:20260423T034918Z
URL:https://business.lametrochamber.com/list/Details/community-recycle-day-2026-drive-thru-event-1714846?sourceTypeId=Hub
END:VEVENT
END:VCALENDAR
