BEGIN:VCALENDAR
VERSION:2.0
PRODID:-//ChamberMaster//Event Calendar 2.0//EN
METHOD:PUBLISH
X-PUBLISHED-TTL:P1H
REFRESH-INTERVAL:P1H
CALSCALE:GREGORIAN
BEGIN:VTIMEZONE
TZID:America/New_York
BEGIN:DAYLIGHT
RRULE:FREQ=YEARLY;BYMONTH=3;BYDAY=2SU
DTSTART:20070101T000000
TZOFFSETFROM:-0500
TZOFFSETTO:-0400
TZNAME:Eastern Daylight Time
END:DAYLIGHT
BEGIN:STANDARD
RRULE:FREQ=YEARLY;BYMONTH=11;BYDAY=1SU
DTSTART:20070101T000000
TZOFFSETFROM:-0400
TZOFFSETTO:-0500
TZNAME:Eastern Standard Time
END:STANDARD
END:VTIMEZONE
BEGIN:VEVENT
DTSTART;TZID=America/New_York:20260424T190000
DTEND;TZID=America/New_York:20260424T210000
X-MICROSOFT-CDO-ALLDAYEVENT:FALSE
SUMMARY:American Elton
DESCRIPTION:Friday\, April 24\n\nDoors and cash bar 6 p.m.\n\nConcert 7 p.m.\n\nTickets:  https://app.arts-people.com/index.php?show=313333\n\nBill Connors\, known as The American Elton\, delivers an unforgettable tribute to Elton John with dazzling costumes\, spot-on vocals\, and electrifying piano performances. His shows capture the magic and energy of Elton’s legendary hits\, leaving audiences singing along. Experience this spectacular evening of music and nostalgia at the Franco Center!\n\nAmerican Elton\, will take you back to a nostalgic time when rock was young and Captain Fantastic seemed to constantly be in Billboards #1 Position. With meticulous attention to detail\, William embodies Elton John’s distinctive voice\, from its powerful falsettos to its textured lows. This vocal resemblance along with colorful and larger than life costumes combined with an engaging audience rapport\, is not just imitation\; it’s a homage to Sir Elton’s unparalleled range and emotive power. Fans at an American Elton show can often forget they are not seeing the man himself.
X-ALT-DESC;FMTTYPE=text/html:Friday\, April 24\n\nDoors and cash bar 6 p.m.\n\nConcert 7 p.m.\n\nTickets:  https://app.arts-people.com/index.php?show=313333\n\nBill Connors\, known as The American Elton\, delivers an unforgettable tribute to Elton John with dazzling costumes\, spot-on vocals\, and electrifying piano performances. His shows capture the magic and energy of Elton’s legendary hits\, leaving audiences singing along. Experience this spectacular evening of music and nostalgia at the Franco Center!\n\nAmerican Elton\, will take you back to a nostalgic time when rock was young and Captain Fantastic seemed to constantly be in Billboards #1 Position. With meticulous attention to detail\, William embodies Elton John’s distinctive voice\, from its powerful falsettos to its textured lows. This vocal resemblance along with colorful and larger than life costumes combined with an engaging audience rapport\, is not just imitation\; it’s a homage to Sir Elton’s unparalleled range and emotive power. Fans at an American Elton show can often forget they are not seeing the man himself.
LOCATION:46 Cedar Street Lewiston ME 04240
UID:e.4124.1444529
SEQUENCE:3
DTSTAMP:20260423T041634Z
URL:https://business.lametrochamber.com/list/Details/american-elton-1710905?sourceTypeId=Hub
END:VEVENT
END:VCALENDAR
