BEGIN:VCALENDAR
VERSION:2.0
PRODID:-//ChamberMaster//Event Calendar 2.0//EN
METHOD:PUBLISH
X-PUBLISHED-TTL:P1H
REFRESH-INTERVAL:P1H
CALSCALE:GREGORIAN
BEGIN:VTIMEZONE
TZID:America/New_York
BEGIN:DAYLIGHT
RRULE:FREQ=YEARLY;BYMONTH=3;BYDAY=2SU
DTSTART:20070101T000000
TZOFFSETFROM:-0500
TZOFFSETTO:-0400
TZNAME:Eastern Daylight Time
END:DAYLIGHT
BEGIN:STANDARD
RRULE:FREQ=YEARLY;BYMONTH=11;BYDAY=1SU
DTSTART:20070101T000000
TZOFFSETFROM:-0400
TZOFFSETTO:-0500
TZNAME:Eastern Standard Time
END:STANDARD
END:VTIMEZONE
BEGIN:VEVENT
DTSTART;VALUE=DATE:20260624
DTEND;VALUE=DATE:20260625
TRANSP:TRANSPARENT
X-MICROSOFT-CDO-ALLDAYEVENT:TRUE
SUMMARY:4th Annual "All in Fore Survivors" Golf Tournament
DESCRIPTION:Join Sexual Assault Prevention and Response Services (SAPARS) on June 24th at Poland Spring Golf Course for a day of networking and impact. By hitting the greens with us\, you are directly supporting survivors and prevention education and advocacy across Androscoggin\, Oxford\, and Franklin counties. Regardless of skill level\, come help us drive change in our community. Sponsorship opportunities and team registrations are now open!
X-ALT-DESC;FMTTYPE=text/html:<!DOCTYPE html><html><head><title></title></head><body aria-disabled="false" data-gr-ext-installed="" data-new-gr-c-s-check-loaded="14.1285.0" data-new-gr-c-s-loaded="14.1285.0" spellcheck="false"><p>Join Sexual Assault Prevention and Response Services (SAPARS) on June 24th at Poland Spring Golf Course for a day of networking and impact. By hitting the greens with us\, you are directly supporting survivors and prevention education and advocacy across Androscoggin\, Oxford\, and Franklin counties.&nbsp\;</p><p>Regardless of skill level\, come help us drive change in our community. Sponsorship opportunities and team registrations are now open!</p></body></html>
LOCATION:Poland ME 04274
UID:e.4124.1449391
SEQUENCE:3
DTSTAMP:20260424T143155Z
URL:https://business.lametrochamber.com/list/Details/4th-annual-all-in-fore-survivors-golf-tournament-1716835?sourceTypeId=Hub
END:VEVENT
END:VCALENDAR
